BEGIN:VCALENDAR
VERSION:2.0
PRODID:-//Plone.org//NONSGML plone.app.event//EN
X-WR-TIMEZONE:Europe/Madrid
BEGIN:VEVENT
SUMMARY:Recapte de sang
DTSTART;TZID=Europe/Madrid;VALUE=DATE-TIME:20151128T100000
DTEND;TZID=Europe/Madrid;VALUE=DATE-TIME:20151128T110000
DTSTAMP;VALUE=DATE-TIME:20260423T001218Z
UID:18cbb458d3bdfcc4988548801dbfe5c7
CREATED;VALUE=DATE-TIME:20151128T000000Z
LOCATION:Can Ramis - Pl. de la Vila, 25
ORGANIZER:Associació de donants de sang del Vallès Or., Creu Roja Sant Celoni i Ajuntament de Sant Celoni
COMMENT:Durada: De 10 a 14 i de 17 a 21h
DESCRIPTION:Associació de donants de sang
URL:https://www.santceloni.cat/document.php?id=15408
END:VEVENT
END:VCALENDAR