BEGIN:VCALENDAR
VERSION:2.0
PRODID:-//Plone.org//NONSGML plone.app.event//EN
X-WR-TIMEZONE:Europe/Madrid
BEGIN:VEVENT
SUMMARY:Trobada d'inici de curs del Banc del Temps
DTSTART;TZID=Europe/Madrid;VALUE=DATE-TIME:20151204T190000
DTEND;TZID=Europe/Madrid;VALUE=DATE-TIME:20151204T200000
DTSTAMP;VALUE=DATE-TIME:20260422T172131Z
UID:6ea9e9d04d2babd665b301c7164cb85e
CREATED;VALUE=DATE-TIME:20151204T000000Z
CATEGORIES:Festa
LOCATION:La Clau - c. Alguersuari, 16
DESCRIPTION:Activitats del Banc del Temps
URL:https://www.santceloni.cat/document.php?id=15446
END:VEVENT
END:VCALENDAR