BEGIN:VCALENDAR
VERSION:2.0
PRODID:-//Plone.org//NONSGML plone.app.event//EN
X-WR-TIMEZONE:Europe/Madrid
BEGIN:VEVENT
SUMMARY:Música tradicional i folklòrica de Turquia: Lokma
DTSTART;TZID=Europe/Madrid;VALUE=DATE-TIME:20151212T230000
DTEND;TZID=Europe/Madrid;VALUE=DATE-TIME:20151213T000000
DTSTAMP;VALUE=DATE-TIME:20260422T045543Z
UID:6d53d746fca839231ea0a8c4d6cdf586
CREATED;VALUE=DATE-TIME:20151212T000000Z
CATEGORIES:Dansa,Música
LOCATION:La Jaima Art - c. Santiago Rusiñol, 10, 08470 Sant Celoni
ORGANIZER:La Jaima Art
COMMENT:Preu: Taquilla Inversa
DESCRIPTION:Activitats de La Jaima Art
URL:https://www.santceloni.cat/document.php?id=15470
END:VEVENT
END:VCALENDAR