BEGIN:VCALENDAR
VERSION:2.0
PRODID:-//Plone.org//NONSGML plone.app.event//EN
X-WR-TIMEZONE:Europe/Madrid
BEGIN:VEVENT
SUMMARY:Música i cant: Maalen Aziz Arradi
DTSTART;TZID=Europe/Madrid;VALUE=DATE-TIME:20160227T230000
DTEND;TZID=Europe/Madrid;VALUE=DATE-TIME:20160228T000000
DTSTAMP;VALUE=DATE-TIME:20260421T184807Z
UID:1397a435edff8ecaa68cec5c1b3553ec
CREATED;VALUE=DATE-TIME:20160227T000000Z
CATEGORIES:Dansa,Música
LOCATION:La Jaima Art - c. Santiago Rusiñol, 10, 08470 Sant Celoni
ORGANIZER:La Jaima Art
COMMENT:Preu: Taquilla Inversa
DESCRIPTION:Activitats de La Jaima Art
URL:https://www.santceloni.cat/document.php?id=15488
END:VEVENT
END:VCALENDAR