BEGIN:VCALENDAR
VERSION:2.0
PRODID:-//Plone.org//NONSGML plone.app.event//EN
X-WR-TIMEZONE:Europe/Madrid
BEGIN:VEVENT
SUMMARY:Sessió DJ 1Up
DTSTART;TZID=Europe/Madrid;VALUE=DATE-TIME:20160122T230000
DTEND;TZID=Europe/Madrid;VALUE=DATE-TIME:20160123T000000
DTSTAMP;VALUE=DATE-TIME:20260422T003312Z
UID:55efee932d6caa3eded3272b0b4d98a1
CREATED;VALUE=DATE-TIME:20160122T000000Z
CATEGORIES:Música
LOCATION:La Jaima Art - c. Santiago Rusiñol, 10, 08470 Sant Celoni
ORGANIZER:La Jaima Art
COMMENT:Preu: Taquilla Inversa
URL:https://www.santceloni.cat/document.php?id=15492
END:VEVENT
END:VCALENDAR