BEGIN:VCALENDAR
VERSION:2.0
PRODID:-//Plone.org//NONSGML plone.app.event//EN
X-WR-TIMEZONE:Europe/Madrid
BEGIN:VEVENT
SUMMARY:Presentació dels llibres fotogràfics de Mariano Pagès i Àlex Alonso
DTSTART;TZID=Europe/Madrid;VALUE=DATE-TIME:20151222T190000
DTEND;TZID=Europe/Madrid;VALUE=DATE-TIME:20151222T200000
DTSTAMP;VALUE=DATE-TIME:20260422T215122Z
UID:a3f5c1f1e976f8a0670f3eaa39f82e83
CREATED;VALUE=DATE-TIME:20151222T000000Z
LOCATION:Sala Bernat Martorell de Can Ramis - Pl. de la Vila, 25
URL:https://www.santceloni.cat/document.php?id=15511
END:VEVENT
END:VCALENDAR