BEGIN:VCALENDAR
VERSION:2.0
PRODID:-//Plone.org//NONSGML plone.app.event//EN
X-WR-TIMEZONE:Europe/Madrid
BEGIN:VEVENT
SUMMARY:Gran Festa de Cap d'Any
DTSTART;TZID=Europe/Madrid;VALUE=DATE-TIME:20160101T003000
DTEND;TZID=Europe/Madrid;VALUE=DATE-TIME:20160101T013000
DTSTAMP;VALUE=DATE-TIME:20260422T002235Z
UID:a974bec11d549c5c5d0088302014e922
CREATED;VALUE=DATE-TIME:20160101T000000Z
CATEGORIES:Festa,Música
LOCATION:Pavelló Municipal d'Esports - Av. Catalunya, s/n
COMMENT:Preu: Gratuït (aforament limitat)
Durada: Fins la matinada.
DESCRIPTION:Amb els Dj's Ramon i Marvin
URL:https://www.santceloni.cat/document.php?id=15527
END:VEVENT
END:VCALENDAR