BEGIN:VCALENDAR
VERSION:2.0
PRODID:-//Plone.org//NONSGML plone.app.event//EN
X-WR-TIMEZONE:Europe/Madrid
BEGIN:VEVENT
SUMMARY:Arribada dels Carters Reials a Sant Celoni
DTSTART;TZID=Europe/Madrid;VALUE=DATE-TIME:20160102T173000
DTEND;TZID=Europe/Madrid;VALUE=DATE-TIME:20160102T183000
DTSTAMP;VALUE=DATE-TIME:20260421T230604Z
UID:6b811fb3bd43e2f2dff18cebb1d10edb
CREATED;VALUE=DATE-TIME:20160102T000000Z
LOCATION:Plaça Comte del Montseny - Plaça Comte del Montseny
ORGANIZER:Agrupament Escolta i Guia Erol
DESCRIPTION:La Martina i l'Ermenter, amb els Timbalers dels Diables de Sant Celoni
URL:https://www.santceloni.cat/document.php?id=15531
END:VEVENT
END:VCALENDAR