BEGIN:VCALENDAR
VERSION:2.0
PRODID:-//Plone.org//NONSGML plone.app.event//EN
X-WR-TIMEZONE:Europe/Madrid
BEGIN:VEVENT
SUMMARY:Lliurament de cartes als Carters Reials
DTSTART;TZID=Europe/Madrid;VALUE=DATE-TIME:20160102T173000
DTEND;TZID=Europe/Madrid;VALUE=DATE-TIME:20160102T183000
DTSTAMP;VALUE=DATE-TIME:20260422T153048Z
UID:5fdd8c98a86c423cbd7aeb091d0b27ce
CREATED;VALUE=DATE-TIME:20160102T000000Z
CATEGORIES:Festa,Infantils
LOCATION:Torre de la Força - Carrer Les Valls, 24-26
ORGANIZER:Agrupament Escolta i Guia Ero
COMMENT:Durada: Fins les 8 del vespre
URL:https://www.santceloni.cat/document.php?id=15549
END:VEVENT
END:VCALENDAR