BEGIN:VCALENDAR
VERSION:2.0
PRODID:-//Plone.org//NONSGML plone.app.event//EN
X-WR-TIMEZONE:Europe/Madrid
BEGIN:VEVENT
SUMMARY:Nàdia Ghulam presentarà el seu llibre El secret del meu turbant, a la Biblioteca
DTSTART;TZID=Europe/Madrid;VALUE=DATE-TIME:20160121T190000
DTEND;TZID=Europe/Madrid;VALUE=DATE-TIME:20160121T200000
DTSTAMP;VALUE=DATE-TIME:20260422T090935Z
UID:ad4eb0ef9b1155792cab27bc4c9bb659
CREATED;VALUE=DATE-TIME:20160121T000000Z
CATEGORIES:Literatura
LOCATION:Biblioteca l'Escorxador - Pg. de la Rectoria Vella, 10
DESCRIPTION:Tast de llibres i Carretera & Manta
URL:https://www.santceloni.cat/document.php?id=15611
END:VEVENT
END:VCALENDAR