BEGIN:VCALENDAR
VERSION:2.0
PRODID:-//Plone.org//NONSGML plone.app.event//EN
X-WR-TIMEZONE:Europe/Madrid
BEGIN:VEVENT
SUMMARY:Mercat del Trasto
DTSTART;TZID=Europe/Madrid;VALUE=DATE-TIME:20150103T090000
DTEND;TZID=Europe/Madrid;VALUE=DATE-TIME:20150103T100000
DTSTAMP;VALUE=DATE-TIME:20260421T085259Z
UID:696819e2b608e4ccafd5bc513705981e
CREATED;VALUE=DATE-TIME:20150103T000000Z
CATEGORIES:Mostra
LOCATION:Plaça Mercè Rodoreda - Plaça Mercè Rodoreda
ORGANIZER:Tots a la Pista TALP
COMMENT:Preu: 3 &euro;
URL:https://www.santceloni.cat/document.php?id=15632
END:VEVENT
END:VCALENDAR