BEGIN:VCALENDAR
VERSION:2.0
PRODID:-//Plone.org//NONSGML plone.app.event//EN
X-WR-TIMEZONE:Europe/Madrid
BEGIN:VEVENT
SUMMARY:Informació sobre el Banc del Temps de Sant Celoni
DTSTART;TZID=Europe/Madrid;VALUE=DATE-TIME:20160308T180000
DTEND;TZID=Europe/Madrid;VALUE=DATE-TIME:20160308T190000
DTSTAMP;VALUE=DATE-TIME:20260422T125914Z
UID:652915ac54877cbd97033a3c42846a1e
CREATED;VALUE=DATE-TIME:20160308T000000Z
LOCATION:La Clau - c. Alguersuari, 16
ORGANIZER:Banc de Temps de Sant Celoni
URL:https://www.santceloni.cat/document.php?id=15702
END:VEVENT
END:VCALENDAR