BEGIN:VCALENDAR
VERSION:2.0
PRODID:-//Plone.org//NONSGML plone.app.event//EN
X-WR-TIMEZONE:Europe/Madrid
BEGIN:VEVENT
SUMMARY:Informació sobre el Banc del Temps de Sant Celoni
DTSTART;TZID=Europe/Madrid;VALUE=DATE-TIME:20160405T180000
DTEND;TZID=Europe/Madrid;VALUE=DATE-TIME:20160405T190000
DTSTAMP;VALUE=DATE-TIME:20260421T214604Z
UID:c9c11c0379731c75f5a5b8473b88750a
CREATED;VALUE=DATE-TIME:20160405T000000Z
LOCATION:La Clau - c. Alguersuari, 16
ORGANIZER:Banc de Temps de Sant Celoni
URL:https://www.santceloni.cat/document.php?id=15705
END:VEVENT
END:VCALENDAR