BEGIN:VCALENDAR
VERSION:2.0
PRODID:-//Plone.org//NONSGML plone.app.event//EN
X-WR-TIMEZONE:Europe/Madrid
BEGIN:VEVENT
SUMMARY:Ball de l'Esplai a l'Ateneu, amb Marisol Grup
DTSTART;TZID=Europe/Madrid;VALUE=DATE-TIME:20160306T180000
DTEND;TZID=Europe/Madrid;VALUE=DATE-TIME:20160306T190000
DTSTAMP;VALUE=DATE-TIME:20260422T112209Z
UID:7e45e386cebc3212f812a12a19e06523
CREATED;VALUE=DATE-TIME:20160306T000000Z
CATEGORIES:Música
LOCATION:Casal d'avis L'Esplai - Germà Emilià, 1
ORGANIZER:Esplai de la Gent Gran
COMMENT:Preu: 5 &euro; socis, 6 &euro; no socis
DESCRIPTION:Activitats de l'Esplai de Gent Gran
URL:https://www.santceloni.cat/document.php?id=15826
END:VEVENT
END:VCALENDAR