BEGIN:VCALENDAR
VERSION:2.0
PRODID:-//Plone.org//NONSGML plone.app.event//EN
X-WR-TIMEZONE:Europe/Madrid
BEGIN:VEVENT
SUMMARY:Ball a l'Esplai amb Silvia
DTSTART;TZID=Europe/Madrid;VALUE=DATE-TIME:20160320T173000
DTEND;TZID=Europe/Madrid;VALUE=DATE-TIME:20160320T183000
DTSTAMP;VALUE=DATE-TIME:20260423T041353Z
UID:b8e17f07bea440a47fa77f1aa88b06a7
CREATED;VALUE=DATE-TIME:20160320T000000Z
CATEGORIES:Música
LOCATION:Casal d'avis L'Esplai - Balmes, 36
ORGANIZER:Esplai de la Gent Gran
COMMENT:Preu: 4 &euro; socis, 5 &euro; no socis
DESCRIPTION:Activitats de l'Esplai de Gent Gran
URL:https://www.santceloni.cat/document.php?id=15828
END:VEVENT
END:VCALENDAR