BEGIN:VCALENDAR
VERSION:2.0
PRODID:-//Plone.org//NONSGML plone.app.event//EN
X-WR-TIMEZONE:Europe/Madrid
BEGIN:VEVENT
SUMMARY:Festa Gran de l'Esplai
DTSTART;TZID=Europe/Madrid;VALUE=DATE-TIME:20160522T123000
DTEND;TZID=Europe/Madrid;VALUE=DATE-TIME:20160522T133000
DTSTAMP;VALUE=DATE-TIME:20260422T075029Z
UID:8d589bdb336b32f1e12c3c7a2005244d
CREATED;VALUE=DATE-TIME:20160522T000000Z
CATEGORIES:Festa,Música
LOCATION:Casal de l'Esplai, Església parroquial i pista coberta Camp Municipal d'Esports - Pg. dels Esports, s/n
ORGANIZER:Casal de la Gent Gran i Església Parroquial
COMMENT:Preu: Gratuït
DESCRIPTION:Activitats de l'Esplai de Gent Gran
URL:https://www.santceloni.cat/document.php?id=15837
END:VEVENT
END:VCALENDAR