BEGIN:VCALENDAR
VERSION:2.0
PRODID:-//Plone.org//NONSGML plone.app.event//EN
X-WR-TIMEZONE:Europe/Madrid
BEGIN:VEVENT
SUMMARY:Titelles a l'Ateneu: Jai, el mariner, amb Zipit Company
DTSTART;TZID=Europe/Madrid;VALUE=DATE-TIME:20160306T120000
DTEND;TZID=Europe/Madrid;VALUE=DATE-TIME:20160306T130000
DTSTAMP;VALUE=DATE-TIME:20260420T122511Z
UID:7eaffd8960630e28423acd4d1547cd9d
CREATED;VALUE=DATE-TIME:20160306T000000Z
CATEGORIES:Infantils,Teatre
LOCATION:Teatre Ateneu, Sala Petita - Germà Emilià, 1
COMMENT:Preu: 5  entrada general adults; 3  infants fins a 10 anys
DESCRIPTION:Programació Familiar 2016
URL:https://www.santceloni.cat/document.php?id=15846
END:VEVENT
END:VCALENDAR