BEGIN:VCALENDAR
VERSION:2.0
PRODID:-//Plone.org//NONSGML plone.app.event//EN
X-WR-TIMEZONE:Europe/Madrid
BEGIN:VEVENT
SUMMARY:Òpera-Collage: Clau de Lluna
DTSTART;TZID=Europe/Madrid;VALUE=DATE-TIME:20160306T183000
DTEND;TZID=Europe/Madrid;VALUE=DATE-TIME:20160306T193000
DTSTAMP;VALUE=DATE-TIME:20260422T124312Z
UID:101563f6d1aeb53c56c950b5a1919709
CREATED;VALUE=DATE-TIME:20160306T000000Z
CATEGORIES:Música,Teatre
LOCATION:Teatre Ateneu, Sala Petita - Germà Emilià, 1
COMMENT:Preu: Entrada lliure, fins completar l'aforament
DESCRIPTION:Dia Internacional de les Dones 2016
URL:https://www.santceloni.cat/document.php?id=15875
END:VEVENT
END:VCALENDAR