BEGIN:VCALENDAR
VERSION:2.0
PRODID:-//Plone.org//NONSGML plone.app.event//EN
X-WR-TIMEZONE:Europe/Madrid
BEGIN:VEVENT
SUMMARY:Concert de Primavera-Sardanes
DTSTART;TZID=Europe/Madrid;VALUE=DATE-TIME:20160320T180000
DTEND;TZID=Europe/Madrid;VALUE=DATE-TIME:20160320T190000
DTSTAMP;VALUE=DATE-TIME:20260420T140526Z
UID:b2ca28d9b0c254cb8d9a12e98e9ddbae
CREATED;VALUE=DATE-TIME:20160320T000000Z
CATEGORIES:Música
LOCATION:Teatre Ateneu, Sala Gran - Germà Emilià, 1
ORGANIZER:Ateneu de Sant Celoni
URL:https://www.santceloni.cat/document.php?id=15911
END:VEVENT
END:VCALENDAR