BEGIN:VCALENDAR
VERSION:2.0
PRODID:-//Plone.org//NONSGML plone.app.event//EN
X-WR-TIMEZONE:Europe/Madrid
BEGIN:VEVENT
SUMMARY:Els Sonets de William Shakespeare
DTSTART;TZID=Europe/Madrid;VALUE=DATE-TIME:20160403T190000
DTEND;TZID=Europe/Madrid;VALUE=DATE-TIME:20160403T200000
DTSTAMP;VALUE=DATE-TIME:20260421T180811Z
UID:05735c977d45f81f23744b0c8462f2d4
CREATED;VALUE=DATE-TIME:20160403T000000Z
CATEGORIES:Literatura,Música
LOCATION:Teatre Ateneu, Sala Petita - Germà Emilià, 1
ORGANIZER:Ateneu de Sant Celoni
URL:https://www.santceloni.cat/document.php?id=15917
END:VEVENT
END:VCALENDAR