BEGIN:VCALENDAR
VERSION:2.0
PRODID:-//Plone.org//NONSGML plone.app.event//EN
X-WR-TIMEZONE:Europe/Madrid
BEGIN:VEVENT
SUMMARY:Barranquisme: Canal del Joc de l´Oca (Montserrat)
DTSTART;TZID=Europe/Madrid;VALUE=DATE-TIME:20160306T235900
DTEND;TZID=Europe/Madrid;VALUE=DATE-TIME:20160307T005900
DTSTAMP;VALUE=DATE-TIME:20260420T153049Z
UID:a0408df6d3651659294fd0327c681a99
CREATED;VALUE=DATE-TIME:20160306T000000Z
CATEGORIES:Esports
LOCATION:Aparcament nou de l'estació de tren de Sant Celoni
COMMENT:Preu: Gratuït
Durada: Unes 5 hores
DESCRIPTION:Activitats del CESC
URL:https://www.santceloni.cat/document.php?id=15947
END:VEVENT
END:VCALENDAR