BEGIN:VCALENDAR
VERSION:2.0
PRODID:-//Plone.org//NONSGML plone.app.event//EN
X-WR-TIMEZONE:Europe/Madrid
BEGIN:VEVENT
SUMMARY:Muntanya: Bassegoda (Alta Garrotxa)
DTSTART;TZID=Europe/Madrid;VALUE=DATE-TIME:20160320T070000
DTEND;TZID=Europe/Madrid;VALUE=DATE-TIME:20160320T080000
DTSTAMP;VALUE=DATE-TIME:20260422T155312Z
UID:c3896e1246a0f5d8a4d3ab20573cc118
CREATED;VALUE=DATE-TIME:20160320T000000Z
CATEGORIES:Esports
LOCATION:Plaça Comte del Montseny - Plaça Comte del Montseny
ORGANIZER:Centre Excursionista Sant Celoni
COMMENT:Durada: Unes 6 hores
DESCRIPTION:Activitats del CESC
URL:https://www.santceloni.cat/document.php?id=15949
END:VEVENT
END:VCALENDAR