BEGIN:VCALENDAR
VERSION:2.0
PRODID:-//Plone.org//NONSGML plone.app.event//EN
X-WR-TIMEZONE:Europe/Madrid
BEGIN:VEVENT
SUMMARY:Acció pel Dia Internacional de les dones: Juntes som més fortes
DTSTART;TZID=Europe/Madrid;VALUE=DATE-TIME:20160308T180000
DTEND;TZID=Europe/Madrid;VALUE=DATE-TIME:20160308T190000
DTSTAMP;VALUE=DATE-TIME:20260420T140353Z
UID:6dc764437ea81da8ec390edc774935cd
CREATED;VALUE=DATE-TIME:20160308T000000Z
CATEGORIES:Festa
LOCATION:Plaça de la Vila - Plaça de la Vila
ORGANIZER:La Clau, CUP i Assemblea de Joves de Sant Celoni
DESCRIPTION:Dia Internacional de les Dones 2016
URL:https://www.santceloni.cat/document.php?id=15969
END:VEVENT
END:VCALENDAR