BEGIN:VCALENDAR
VERSION:2.0
PRODID:-//Plone.org//NONSGML plone.app.event//EN
X-WR-TIMEZONE:Europe/Madrid
BEGIN:VEVENT
SUMMARY:Dues caminades en clau de dona a Sant Celoni i la Batllòria
DTSTART;TZID=Europe/Madrid;VALUE=DATE-TIME:20160313T090000
DTEND;TZID=Europe/Madrid;VALUE=DATE-TIME:20160313T100000
DTSTAMP;VALUE=DATE-TIME:20260422T165843Z
UID:461f3fd4d3cccc2780905b7ae8fd96f7
CREATED;VALUE=DATE-TIME:20160313T000000Z
LOCATION:Plaça de l'Església (la Batllòria) i Oficina de Turisme
DESCRIPTION:Dia Internacional de les Dones 2016
URL:https://www.santceloni.cat/document.php?id=15972
END:VEVENT
END:VCALENDAR