BEGIN:VCALENDAR
VERSION:2.0
PRODID:-//Plone.org//NONSGML plone.app.event//EN
X-WR-TIMEZONE:Europe/Madrid
BEGIN:VEVENT
SUMMARY:Espectacle "Clown Bergamotto Show"
DTSTART;TZID=Europe/Madrid;VALUE=DATE-TIME:20160313T173000
DTEND;TZID=Europe/Madrid;VALUE=DATE-TIME:20160313T183000
DTSTAMP;VALUE=DATE-TIME:20260422T195316Z
UID:856c4cab536376c2dcb7efd3c5d40833
CREATED;VALUE=DATE-TIME:20160313T000000Z
CATEGORIES:Infantils
LOCATION:La Jaima Art C/ Rusiñol, 10, 08470 Sant Celoni
ORGANIZER:La Jaima Art
COMMENT:Preu: Taquilla Inversa
DESCRIPTION:Activitats de La Jaima Art
URL:https://www.santceloni.cat/document.php?id=15984
END:VEVENT
END:VCALENDAR