BEGIN:VCALENDAR
VERSION:2.0
PRODID:-//Plone.org//NONSGML plone.app.event//EN
X-WR-TIMEZONE:Europe/Madrid
BEGIN:VEVENT
SUMMARY:Teatre infantil: El secret de l'elixir
DTSTART;TZID=Europe/Madrid;VALUE=DATE-TIME:20160320T173000
DTEND;TZID=Europe/Madrid;VALUE=DATE-TIME:20160320T183000
DTSTAMP;VALUE=DATE-TIME:20260422T202352Z
UID:8776c245a0d8e540c18e7631135da856
CREATED;VALUE=DATE-TIME:20160320T000000Z
CATEGORIES:Dansa,Infantils,Música,Teatre
LOCATION:La Jaima Art C/ Rusiñol, 10, 08470 Sant Celoni
ORGANIZER:La Jaima Art
COMMENT:Preu: Taquilla Inversa
DESCRIPTION:Activitats de La Jaima Art
URL:https://www.santceloni.cat/document.php?id=15986
END:VEVENT
END:VCALENDAR