BEGIN:VCALENDAR
VERSION:2.0
PRODID:-//Plone.org//NONSGML plone.app.event//EN
X-WR-TIMEZONE:Europe/Madrid
BEGIN:VEVENT
SUMMARY:Memoràndum, pintures de Ricard Geladó
DTSTART;TZID=Europe/Madrid;VALUE=DATE-TIME:20160319T190000
DTEND;TZID=Europe/Madrid;VALUE=DATE-TIME:20160319T200000
DTSTAMP;VALUE=DATE-TIME:20260422T105937Z
UID:958c59feb926a2a4caf7c629f162741e
CREATED;VALUE=DATE-TIME:20160319T000000Z
CATEGORIES:Exposició
LOCATION:Rectoria Vella - Parc de la Rectoria Vella, s/n
DESCRIPTION:Inauguració de l'exposició
URL:https://www.santceloni.cat/document.php?id=15996
END:VEVENT
END:VCALENDAR