BEGIN:VCALENDAR
VERSION:2.0
PRODID:-//Plone.org//NONSGML plone.app.event//EN
X-WR-TIMEZONE:Europe/Madrid
BEGIN:VEVENT
SUMMARY:Celebració 15 anys del Casal Quico Sabaté
DTSTART;TZID=Europe/Madrid;VALUE=DATE-TIME:20160319T220000
DTEND;TZID=Europe/Madrid;VALUE=DATE-TIME:20160319T230000
DTSTAMP;VALUE=DATE-TIME:20260420T122443Z
UID:2a0a0b53547dcc845a9d23f38255e34a
CREATED;VALUE=DATE-TIME:20160319T000000Z
CATEGORIES:Música
LOCATION:Pavelló Municipal d'Esports - Av. Catalunya, s/n
ORGANIZER:Casal Quico Sabaté
COMMENT:Preu: 10&euro; Anticipada / 12&euro; Taquilla
DESCRIPTION:Concert amb Smoking Souls, At Versaris, KOP i ZOO
URL:https://www.santceloni.cat/document.php?id=16019
END:VEVENT
END:VCALENDAR