BEGIN:VCALENDAR
VERSION:2.0
PRODID:-//Plone.org//NONSGML plone.app.event//EN
X-WR-TIMEZONE:Europe/Madrid
BEGIN:VEVENT
SUMMARY:Celebració 15 anys del Casal Quico Sabaté
DTSTART;TZID=Europe/Madrid;VALUE=DATE-TIME:20160319T200000
DTEND;TZID=Europe/Madrid;VALUE=DATE-TIME:20160319T210000
DTSTAMP;VALUE=DATE-TIME:20260422T112138Z
UID:b91708ba3bdbe681eb611b81d8ed684c
CREATED;VALUE=DATE-TIME:20160319T000000Z
CATEGORIES:Conferència
LOCATION:Pavelló Municipal d'Esports - Av. Catalunya, s/n
ORGANIZER:Casal Quico Sabaté
COMMENT:Preu: Gratuït
DESCRIPTION:Acte polític amb parlaments
URL:https://www.santceloni.cat/document.php?id=16020
END:VEVENT
END:VCALENDAR