BEGIN:VCALENDAR
VERSION:2.0
PRODID:-//Plone.org//NONSGML plone.app.event//EN
X-WR-TIMEZONE:Europe/Madrid
BEGIN:VEVENT
SUMMARY:5a calçotada popular
DTSTART;TZID=Europe/Madrid;VALUE=DATE-TIME:20160313T130000
DTEND;TZID=Europe/Madrid;VALUE=DATE-TIME:20160313T140000
DTSTAMP;VALUE=DATE-TIME:20260422T205331Z
UID:68f894c0b62cb9aa669fcec068fc6978
CREATED;VALUE=DATE-TIME:20160313T000000Z
CATEGORIES:Festa
LOCATION:Escola Josep Pallerola - Consolat de Mar, s/n
COMMENT:Preu: 10 &euro;
URL:https://www.santceloni.cat/document.php?id=16024
END:VEVENT
END:VCALENDAR