BEGIN:VCALENDAR
VERSION:2.0
PRODID:-//Plone.org//NONSGML plone.app.event//EN
X-WR-TIMEZONE:Europe/Madrid
BEGIN:VEVENT
SUMMARY:Taller de cuina libanesa
DTSTART;TZID=Europe/Madrid;VALUE=DATE-TIME:20160320T110000
DTEND;TZID=Europe/Madrid;VALUE=DATE-TIME:20160320T120000
DTSTAMP;VALUE=DATE-TIME:20260422T172146Z
UID:5e653d580b835e90aa35207c2377f24e
CREATED;VALUE=DATE-TIME:20160320T000000Z
CATEGORIES:Cursos
LOCATION:La Clau - c. Alguersuari, 16
ORGANIZER:Banc del Temps
COMMENT:Preu: 5 &euro;
DESCRIPTION:Activitats del Banc del Temps
URL:https://www.santceloni.cat/document.php?id=16030
END:VEVENT
END:VCALENDAR