BEGIN:VCALENDAR
VERSION:2.0
PRODID:-//Plone.org//NONSGML plone.app.event//EN
X-WR-TIMEZONE:Europe/Madrid
BEGIN:VEVENT
SUMMARY:Passejada Cirerers florits al Montnegre
DTSTART;TZID=Europe/Madrid;VALUE=DATE-TIME:20160403T093000
DTEND;TZID=Europe/Madrid;VALUE=DATE-TIME:20160403T103000
DTSTAMP;VALUE=DATE-TIME:20260421T173119Z
UID:39ae621ed37309e338fb3bf926532378
CREATED;VALUE=DATE-TIME:20160403T000000Z
LOCATION:Plaça de l'Estació - Plaça de l'Estació RENFE
ORGANIZER:Diputació de Barcelona
COMMENT:Durada: 3 hores, aproximadament
DESCRIPTION:Passejades guiades 2016
URL:https://www.santceloni.cat/document.php?id=16058
END:VEVENT
END:VCALENDAR