BEGIN:VCALENDAR
VERSION:2.0
PRODID:-//Plone.org//NONSGML plone.app.event//EN
X-WR-TIMEZONE:Europe/Madrid
BEGIN:VEVENT
SUMMARY:Passejada Vaques, xais i bocs al bosc
DTSTART;TZID=Europe/Madrid;VALUE=DATE-TIME:20160522T093000
DTEND;TZID=Europe/Madrid;VALUE=DATE-TIME:20160522T103000
DTSTAMP;VALUE=DATE-TIME:20260421T172905Z
UID:0680b379bedeab051feae07b5ffcf41e
CREATED;VALUE=DATE-TIME:20160522T000000Z
LOCATION:Plaça de l'Estació - Plaça de l'Estació RENFE
ORGANIZER:Diputació de Barcelona
COMMENT:Durada: 4 hores
DESCRIPTION:Passejades guiades 2016
URL:https://www.santceloni.cat/document.php?id=16059
END:VEVENT
END:VCALENDAR