BEGIN:VCALENDAR
VERSION:2.0
PRODID:-//Plone.org//NONSGML plone.app.event//EN
X-WR-TIMEZONE:Europe/Madrid
BEGIN:VEVENT
SUMMARY:Edu Libra presenta el seu disc La Vida Lenta
DTSTART;TZID=Europe/Madrid;VALUE=DATE-TIME:20160409T203000
DTEND;TZID=Europe/Madrid;VALUE=DATE-TIME:20160409T213000
DTSTAMP;VALUE=DATE-TIME:20260422T040052Z
UID:3a34c2968348725bdf1639c6f2a7510d
CREATED;VALUE=DATE-TIME:20160409T000000Z
CATEGORIES:Música
LOCATION:La Jaima Art C/ Rusiñol, 10, 08470 Sant Celoni
ORGANIZER:La Jaima Espai SocioCultural i d'Art
COMMENT:Preu: Taquilla Inversa
DESCRIPTION:Activitats de La Jaima Art
URL:https://www.santceloni.cat/document.php?id=16067
END:VEVENT
END:VCALENDAR