BEGIN:VCALENDAR
VERSION:2.0
PRODID:-//Plone.org//NONSGML plone.app.event//EN
X-WR-TIMEZONE:Europe/Madrid
BEGIN:VEVENT
SUMMARY:Concert de Dani Freijo
DTSTART;TZID=Europe/Madrid;VALUE=DATE-TIME:20160423T203000
DTEND;TZID=Europe/Madrid;VALUE=DATE-TIME:20160423T213000
DTSTAMP;VALUE=DATE-TIME:20260422T081355Z
UID:846f07e57dbb173c1fae9e8ca691689d
CREATED;VALUE=DATE-TIME:20160423T000000Z
CATEGORIES:Música
LOCATION:La Jaima Art C/ Rusiñol, 10, 08470 Sant Celoni
ORGANIZER:La Jaima Espai SocioCultural i d'Art
COMMENT:Preu: Taquilla Inversa
DESCRIPTION:Activitats de La Jaima Art
URL:https://www.santceloni.cat/document.php?id=16071
END:VEVENT
END:VCALENDAR