BEGIN:VCALENDAR
VERSION:2.0
PRODID:-//Plone.org//NONSGML plone.app.event//EN
X-WR-TIMEZONE:Europe/Madrid
BEGIN:VEVENT
SUMMARY:Música tradicional i folklòrica de Turquia: Lokma
DTSTART;TZID=Europe/Madrid;VALUE=DATE-TIME:20160430T223000
DTEND;TZID=Europe/Madrid;VALUE=DATE-TIME:20160430T233000
DTSTAMP;VALUE=DATE-TIME:20260421T135025Z
UID:0d3245720b8799f030866d03f594daaa
CREATED;VALUE=DATE-TIME:20160430T000000Z
CATEGORIES:Música
LOCATION:La Jaima Art - c. Santiago Rusiñol, 10
ORGANIZER:La Jaima Espai SocioCultural i d'Art
COMMENT:Preu: Taquilla Inversa
DESCRIPTION:Activitats de La Jaima Art
URL:https://www.santceloni.cat/document.php?id=16073
END:VEVENT
END:VCALENDAR