BEGIN:VCALENDAR
VERSION:2.0
PRODID:-//Plone.org//NONSGML plone.app.event//EN
X-WR-TIMEZONE:Europe/Madrid
BEGIN:VEVENT
SUMMARY:Gala final concurs Sant Celoni Sona 2016
DTSTART;TZID=Europe/Madrid;VALUE=DATE-TIME:20160507T230000
DTEND;TZID=Europe/Madrid;VALUE=DATE-TIME:20160508T000000
DTSTAMP;VALUE=DATE-TIME:20260421T184504Z
UID:07ee3078215bdfea693dc30998f7b1e8
CREATED;VALUE=DATE-TIME:20160507T000000Z
CATEGORIES:Música
LOCATION:Teatre Ateneu, Sala Petita - Germà Emilià, 1
COMMENT:Preu: Gratuït
URL:https://www.santceloni.cat/document.php?id=16087
END:VEVENT
END:VCALENDAR