BEGIN:VCALENDAR
VERSION:2.0
PRODID:-//Plone.org//NONSGML plone.app.event//EN
X-WR-TIMEZONE:Europe/Madrid
BEGIN:VEVENT
SUMMARY:Teatre per a nadons: Piu piu, amb Tutatis i Fes-t'ho com vulguis
DTSTART;TZID=Europe/Madrid;VALUE=DATE-TIME:20160403T120000
DTEND;TZID=Europe/Madrid;VALUE=DATE-TIME:20160403T130000
DTSTAMP;VALUE=DATE-TIME:20260421T163805Z
UID:2da93e361d3f839ea8344e61f0eab065
CREATED;VALUE=DATE-TIME:20160403T000000Z
CATEGORIES:Teatre
LOCATION:Teatre Ateneu, Sala Petita - Germà Emilià, 1
COMMENT:Preu: 5 . Menors de 10 anys: 3 . Menors de 2 anys: gratuït
Durada: 35 minuts
DESCRIPTION:Programació familiar 2016
URL:https://www.santceloni.cat/document.php?id=16091
END:VEVENT
END:VCALENDAR