BEGIN:VCALENDAR
VERSION:2.0
PRODID:-//Plone.org//NONSGML plone.app.event//EN
X-WR-TIMEZONE:Europe/Madrid
BEGIN:VEVENT
SUMMARY:Teatre musical: Sí a la música, amb Els Atrevits
DTSTART;TZID=Europe/Madrid;VALUE=DATE-TIME:20160416T210000
DTEND;TZID=Europe/Madrid;VALUE=DATE-TIME:20160416T220000
DTSTAMP;VALUE=DATE-TIME:20260421T171538Z
UID:def123965e0c1d2e10732eb39ec84c6d
CREATED;VALUE=DATE-TIME:20160416T000000Z
CATEGORIES:Teatre
LOCATION:Teatre Ateneu, Sala Gran - Germà Emilià, 1
COMMENT:Preu: 6 
Durada: 165 minuts (amb entreacte)
DESCRIPTION:Programació A l'Ateneu 2016
URL:https://www.santceloni.cat/document.php?id=16098
END:VEVENT
END:VCALENDAR