BEGIN:VCALENDAR
VERSION:2.0
PRODID:-//Plone.org//NONSGML plone.app.event//EN
X-WR-TIMEZONE:Europe/Madrid
BEGIN:VEVENT
SUMMARY:Teatre: Cites, amb Tramoia
DTSTART;TZID=Europe/Madrid;VALUE=DATE-TIME:20160423T220000
DTEND;TZID=Europe/Madrid;VALUE=DATE-TIME:20160423T230000
DTSTAMP;VALUE=DATE-TIME:20260422T101819Z
UID:d6f2a2d5d755fdd8d3818e8a6895e01c
CREATED;VALUE=DATE-TIME:20160423T000000Z
CATEGORIES:Teatre
LOCATION:Teatre Ateneu, Sala Gran - Germà Emilià, 1
COMMENT:Preu: 10 
Durada: 120 min.
DESCRIPTION:Divendres 22 i dissabte 23
URL:https://www.santceloni.cat/document.php?id=16105
END:VEVENT
END:VCALENDAR