BEGIN:VCALENDAR
VERSION:2.0
PRODID:-//Plone.org//NONSGML plone.app.event//EN
X-WR-TIMEZONE:Europe/Madrid
BEGIN:VEVENT
SUMMARY:Activitats diverses de teatre, tallers i jocs
DTSTART;TZID=Europe/Madrid;VALUE=DATE-TIME:20160423T160000
DTEND;TZID=Europe/Madrid;VALUE=DATE-TIME:20160423T170000
DTSTAMP;VALUE=DATE-TIME:20260422T051930Z
UID:d0b65e978365959b076364773d3ad949
CREATED;VALUE=DATE-TIME:20160423T000000Z
CATEGORIES:Infantils
LOCATION:Plaça de la Vila - Plaça de la Vila
ORGANIZER:Agrupament Escolta Erol
COMMENT:Durada: De 4 a 6 de la tarda
DESCRIPTION:Sant Jordi a Sant Celoni 2016
URL:https://www.santceloni.cat/document.php?id=16158
END:VEVENT
END:VCALENDAR