BEGIN:VCALENDAR
VERSION:2.0
PRODID:-//Plone.org//NONSGML plone.app.event//EN
X-WR-TIMEZONE:Europe/Madrid
BEGIN:VEVENT
SUMMARY:Taller per aprendre a ballar bastons
DTSTART;TZID=Europe/Madrid;VALUE=DATE-TIME:20160423T170000
DTEND;TZID=Europe/Madrid;VALUE=DATE-TIME:20160423T180000
DTSTAMP;VALUE=DATE-TIME:20260422T032534Z
UID:9a010865e468025d99d1effd5e097981
CREATED;VALUE=DATE-TIME:20160423T000000Z
CATEGORIES:Festa
LOCATION:Plaça de la Vila - Plaça de la Vila
ORGANIZER:Colla de Bastoners de Sant Celoni
DESCRIPTION:Sant Jordi a Sant Celoni 2016
URL:https://www.santceloni.cat/document.php?id=16159
END:VEVENT
END:VCALENDAR