BEGIN:VCALENDAR
VERSION:2.0
PRODID:-//Plone.org//NONSGML plone.app.event//EN
X-WR-TIMEZONE:Europe/Madrid
BEGIN:VEVENT
SUMMARY:Sardanes amb la cobla La Principal de Terrassa
DTSTART;TZID=Europe/Madrid;VALUE=DATE-TIME:20160423T180000
DTEND;TZID=Europe/Madrid;VALUE=DATE-TIME:20160423T190000
DTSTAMP;VALUE=DATE-TIME:20260421T180842Z
UID:92665f456467ca88b477c7fa9da67a46
CREATED;VALUE=DATE-TIME:20160423T000000Z
CATEGORIES:Festa
LOCATION:Plaça de la Vila - Plaça de la Vila
DESCRIPTION:Sant Jordi a Sant Celoni 2016
URL:https://www.santceloni.cat/document.php?id=16163
END:VEVENT
END:VCALENDAR