BEGIN:VCALENDAR
VERSION:2.0
PRODID:-//Plone.org//NONSGML plone.app.event//EN
X-WR-TIMEZONE:Europe/Madrid
BEGIN:VEVENT
SUMMARY:Sortida cultural: Ruta per la Barcelona maçònica
DTSTART;TZID=Europe/Madrid;VALUE=DATE-TIME:20160529T190000
DTEND;TZID=Europe/Madrid;VALUE=DATE-TIME:20160529T200000
DTSTAMP;VALUE=DATE-TIME:20260419T151304Z
UID:5d73e6ed748f4de85efe7f6b12f614b5
CREATED;VALUE=DATE-TIME:20160529T000000Z
CATEGORIES:Literatura
LOCATION:Biblioteca l'Escorxador - Pg. de la Rectoria Vella, 10
COMMENT:Preu: Ruta: 15 &euro;.  Àpat: 25 &euro; (restaurant 7 Portes)
DESCRIPTION:Carretera & Manta (oberta a tothom)
URL:https://www.santceloni.cat/document.php?id=16319
END:VEVENT
END:VCALENDAR