BEGIN:VCALENDAR
VERSION:2.0
PRODID:-//Plone.org//NONSGML plone.app.event//EN
X-WR-TIMEZONE:Europe/Madrid
BEGIN:VEVENT
SUMMARY:Concert: MRJ Band (rock)
DTSTART;TZID=Europe/Madrid;VALUE=DATE-TIME:20160507T233000
DTEND;TZID=Europe/Madrid;VALUE=DATE-TIME:20160508T003000
DTSTAMP;VALUE=DATE-TIME:20260419T151444Z
UID:a49bf3f1df29817d38b2505725943982
CREATED;VALUE=DATE-TIME:20160507T000000Z
CATEGORIES:Música
LOCATION:La Jaima Art - c. Santiago Rusiñol, 10
COMMENT:Preu: Taquilla Inversa
DESCRIPTION:Activitats de La Jaima Art
URL:https://www.santceloni.cat/document.php?id=16326
END:VEVENT
END:VCALENDAR