BEGIN:VCALENDAR
VERSION:2.0
PRODID:-//Plone.org//NONSGML plone.app.event//EN
X-WR-TIMEZONE:Europe/Madrid
BEGIN:VEVENT
SUMMARY:Concert: Amics del Bosc
DTSTART;TZID=Europe/Madrid;VALUE=DATE-TIME:20160514T230000
DTEND;TZID=Europe/Madrid;VALUE=DATE-TIME:20160515T000000
DTSTAMP;VALUE=DATE-TIME:20260421T144655Z
UID:2fc83606404fdd95058fff527e3d5202
CREATED;VALUE=DATE-TIME:20160514T000000Z
CATEGORIES:Música
LOCATION:La Jaima Art - c. Santiago Rusiñol, 10
COMMENT:Preu: Taquilla Inversa
DESCRIPTION:Activitats de La Jaima Art
URL:https://www.santceloni.cat/document.php?id=16328
END:VEVENT
END:VCALENDAR