BEGIN:VCALENDAR
VERSION:2.0
PRODID:-//Plone.org//NONSGML plone.app.event//EN
X-WR-TIMEZONE:Europe/Madrid
BEGIN:VEVENT
SUMMARY:Concert: La Bestia (rock)
DTSTART;TZID=Europe/Madrid;VALUE=DATE-TIME:20160521T230000
DTEND;TZID=Europe/Madrid;VALUE=DATE-TIME:20160522T000000
DTSTAMP;VALUE=DATE-TIME:20260422T014904Z
UID:6eacfd4fe6580998ca9926d254649405
CREATED;VALUE=DATE-TIME:20160521T000000Z
CATEGORIES:Música
LOCATION:La Jaima Art - c. Santiago Rusiñol, 10
COMMENT:Preu: Taquilla Inversa
DESCRIPTION:Activitats de La Jaima Art
URL:https://www.santceloni.cat/document.php?id=16329
END:VEVENT
END:VCALENDAR