BEGIN:VCALENDAR
VERSION:2.0
PRODID:-//Plone.org//NONSGML plone.app.event//EN
X-WR-TIMEZONE:Europe/Madrid
BEGIN:VEVENT
SUMMARY:L'experiència raku, ceràmica de Toni Medalla
DTSTART;TZID=Europe/Madrid;VALUE=DATE-TIME:20160528T190000
DTEND;TZID=Europe/Madrid;VALUE=DATE-TIME:20160528T200000
DTSTAMP;VALUE=DATE-TIME:20260422T063358Z
UID:e49af668579a33cec71ba693d5feb0ae
CREATED;VALUE=DATE-TIME:20160528T000000Z
CATEGORIES:Cinema,Exposició,Música,Conferència
LOCATION:Rectoria Vella - Parc de la Rectoria Vella, s/n
DESCRIPTION:Inauguració de l'exposició
URL:https://www.santceloni.cat/document.php?id=16418
END:VEVENT
END:VCALENDAR