BEGIN:VCALENDAR
VERSION:2.0
PRODID:-//Plone.org//NONSGML plone.app.event//EN
X-WR-TIMEZONE:Europe/Madrid
BEGIN:VEVENT
SUMMARY:Taller de Cuina
DTSTART;TZID=Europe/Madrid;VALUE=DATE-TIME:20160529T110000
DTEND;TZID=Europe/Madrid;VALUE=DATE-TIME:20160529T120000
DTSTAMP;VALUE=DATE-TIME:20260421T114818Z
UID:0e83ceb7f19d61b56d20d6f0cd84b0a5
CREATED;VALUE=DATE-TIME:20160529T000000Z
CATEGORIES:Cursos
LOCATION:La Clau - c. Alguersuari, 16
COMMENT:Preu: 5 &euro;
DESCRIPTION:Activitats del Banc del Temps
URL:https://www.santceloni.cat/document.php?id=16430
END:VEVENT
END:VCALENDAR