BEGIN:VCALENDAR
VERSION:2.0
PRODID:-//Plone.org//NONSGML plone.app.event//EN
X-WR-TIMEZONE:Europe/Madrid
BEGIN:VEVENT
SUMMARY:Futbol: CE Sant Celoni - CF Igualada
DTSTART;TZID=Europe/Madrid;VALUE=DATE-TIME:20160529T130000
DTEND;TZID=Europe/Madrid;VALUE=DATE-TIME:20160529T140000
DTSTAMP;VALUE=DATE-TIME:20260422T044717Z
UID:003dca1a412e11228f2d370c761ada4b
CREATED;VALUE=DATE-TIME:20160529T000000Z
CATEGORIES:Esports
LOCATION:Camp Municipal d'esports - Pg. dels Esports, s/n
DESCRIPTION:Semifinal de la Copa Catalunya (anada)
URL:https://www.santceloni.cat/document.php?id=16468
END:VEVENT
END:VCALENDAR